BEGIN:VCALENDAR
VERSION:2.0
PRODID:-//Indian Society of Calgary - ECPv6.6.3//NONSGML v1.0//EN
CALSCALE:GREGORIAN
METHOD:PUBLISH
X-WR-CALNAME:Indian Society of Calgary
X-ORIGINAL-URL:https://calgaryindians.org
X-WR-CALDESC:Events for Indian Society of Calgary
REFRESH-INTERVAL;VALUE=DURATION:PT1H
X-Robots-Tag:noindex
X-PUBLISHED-TTL:PT1H
BEGIN:VTIMEZONE
TZID:America/Edmonton
BEGIN:DAYLIGHT
TZOFFSETFROM:-0700
TZOFFSETTO:-0600
TZNAME:MDT
DTSTART:20260308T090000
END:DAYLIGHT
BEGIN:STANDARD
TZOFFSETFROM:-0600
TZOFFSETTO:-0700
TZNAME:MST
DTSTART:20261101T080000
END:STANDARD
END:VTIMEZONE
BEGIN:VEVENT
DTSTART;VALUE=DATE:20260307
DTEND;VALUE=DATE:20260308
DTSTAMP:20260419T130832
CREATED:20260211T180422Z
LAST-MODIFIED:20260211T180422Z
UID:10000055-1772841600-1772927999@calgaryindians.org
SUMMARY:Women’s Day
DESCRIPTION:
URL:https://calgaryindians.org/event/womens-day/
ATTACH;FMTTYPE=image/jpeg:https://calgaryindians.org/wp-content/uploads/2026/02/Women-Day.jpeg
END:VEVENT
END:VCALENDAR