BEGIN:VCALENDAR
VERSION:2.0
PRODID:-//Indian Society of Calgary - ECPv6.6.3//NONSGML v1.0//EN
CALSCALE:GREGORIAN
METHOD:PUBLISH
X-ORIGINAL-URL:https://calgaryindians.org
X-WR-CALDESC:Events for Indian Society of Calgary
REFRESH-INTERVAL;VALUE=DURATION:PT1H
X-Robots-Tag:noindex
X-PUBLISHED-TTL:PT1H
BEGIN:VTIMEZONE
TZID:America/Edmonton
BEGIN:DAYLIGHT
TZOFFSETFROM:-0700
TZOFFSETTO:-0600
TZNAME:MDT
DTSTART:20260308T090000
END:DAYLIGHT
BEGIN:STANDARD
TZOFFSETFROM:-0600
TZOFFSETTO:-0700
TZNAME:MST
DTSTART:20261101T080000
END:STANDARD
TZID:UTC
BEGIN:STANDARD
TZOFFSETFROM:+0000
TZOFFSETTO:+0000
TZNAME:UTC
DTSTART:20260101T000000
END:STANDARD
END:VTIMEZONE
BEGIN:VEVENT
DTSTART;VALUE=DATE:20260820
DTEND;VALUE=DATE:20260821
DTSTAMP:20260419T223038
CREATED:20260110T065613Z
LAST-MODIFIED:20260110T065613Z
UID:10000053-1787184000-1787270399@calgaryindians.org
SUMMARY:Food Bank
DESCRIPTION:
URL:https://calgaryindians.org/event/food-bank/
ATTACH;FMTTYPE=image/jpeg:https://calgaryindians.org/wp-content/uploads/2026/01/514658236_1138081778339601_1041107059848999194_n.jpg
END:VEVENT
BEGIN:VEVENT
DTSTART;VALUE=DATE:20260915
DTEND;VALUE=DATE:20260916
DTSTAMP:20260419T223038
CREATED:20250118T123613Z
LAST-MODIFIED:20260110T064813Z
UID:10000046-1789430400-1789516799@calgaryindians.org
SUMMARY:Ganesh Utsav
DESCRIPTION:
URL:https://calgaryindians.org/event/ganesh-utsav/
CATEGORIES:Events
ATTACH;FMTTYPE=image/jpeg:https://calgaryindians.org/wp-content/uploads/2025/01/21-3.jpg
END:VEVENT
BEGIN:VEVENT
DTSTART;VALUE=DATE:20261115
DTEND;VALUE=DATE:20261116
DTSTAMP:20260419T223038
CREATED:20250118T123924Z
LAST-MODIFIED:20260110T065000Z
UID:10000047-1794700800-1794787199@calgaryindians.org
SUMMARY:Diwali Fest
DESCRIPTION:
URL:https://calgaryindians.org/event/diwali/
CATEGORIES:Events
ATTACH;FMTTYPE=image/jpeg:https://calgaryindians.org/wp-content/uploads/2025/01/DSC00170-DeNoiseAI-scaled.jpg
END:VEVENT
BEGIN:VEVENT
DTSTART;VALUE=DATE:20261130
DTEND;VALUE=DATE:20261201
DTSTAMP:20260419T223038
CREATED:20260110T065215Z
LAST-MODIFIED:20260110T065215Z
UID:10000051-1795996800-1796083199@calgaryindians.org
SUMMARY:Diwali at the AB legislature
DESCRIPTION:
URL:https://calgaryindians.org/event/diwali-at-the-ab-legislature/
ATTACH;FMTTYPE=image/jpeg:https://calgaryindians.org/wp-content/uploads/2026/01/WhatsApp-Image-2026-01-10-at-12.21.12-PM.jpeg
END:VEVENT
END:VCALENDAR