BEGIN:VCALENDAR
VERSION:2.0
PRODID:-//Indian Society of Calgary - ECPv6.6.3//NONSGML v1.0//EN
CALSCALE:GREGORIAN
METHOD:PUBLISH
X-ORIGINAL-URL:https://calgaryindians.org
X-WR-CALDESC:Events for Indian Society of Calgary
REFRESH-INTERVAL;VALUE=DURATION:PT1H
X-Robots-Tag:noindex
X-PUBLISHED-TTL:PT1H
BEGIN:VTIMEZONE
TZID:America/Edmonton
BEGIN:DAYLIGHT
TZOFFSETFROM:-0700
TZOFFSETTO:-0600
TZNAME:MDT
DTSTART:20260308T090000
END:DAYLIGHT
BEGIN:STANDARD
TZOFFSETFROM:-0600
TZOFFSETTO:-0700
TZNAME:MST
DTSTART:20261101T080000
END:STANDARD
END:VTIMEZONE
BEGIN:VEVENT
DTSTART;VALUE=DATE:20261130
DTEND;VALUE=DATE:20261201
DTSTAMP:20260420T013704
CREATED:20260110T065215Z
LAST-MODIFIED:20260110T065215Z
UID:10000051-1795996800-1796083199@calgaryindians.org
SUMMARY:Diwali at the AB legislature
DESCRIPTION:
URL:https://calgaryindians.org/event/diwali-at-the-ab-legislature/
ATTACH;FMTTYPE=image/jpeg:https://calgaryindians.org/wp-content/uploads/2026/01/WhatsApp-Image-2026-01-10-at-12.21.12-PM.jpeg
END:VEVENT
END:VCALENDAR