BEGIN:VCALENDAR
VERSION:2.0
PRODID:-//Indian Society of Calgary - ECPv6.6.3//NONSGML v1.0//EN
CALSCALE:GREGORIAN
METHOD:PUBLISH
X-WR-CALNAME:Indian Society of Calgary
X-ORIGINAL-URL:https://calgaryindians.org
X-WR-CALDESC:Events for Indian Society of Calgary
REFRESH-INTERVAL;VALUE=DURATION:PT1H
X-Robots-Tag:noindex
X-PUBLISHED-TTL:PT1H
BEGIN:VTIMEZONE
TZID:UTC
BEGIN:STANDARD
TZOFFSETFROM:+0000
TZOFFSETTO:+0000
TZNAME:UTC
DTSTART:20190101T000000
END:STANDARD
TZID:America/Edmonton
BEGIN:DAYLIGHT
TZOFFSETFROM:-0700
TZOFFSETTO:-0600
TZNAME:MDT
DTSTART:20200308T090000
END:DAYLIGHT
BEGIN:STANDARD
TZOFFSETFROM:-0600
TZOFFSETTO:-0700
TZNAME:MST
DTSTART:20201101T080000
END:STANDARD
BEGIN:DAYLIGHT
TZOFFSETFROM:-0700
TZOFFSETTO:-0600
TZNAME:MDT
DTSTART:20210314T090000
END:DAYLIGHT
BEGIN:STANDARD
TZOFFSETFROM:-0600
TZOFFSETTO:-0700
TZNAME:MST
DTSTART:20211107T080000
END:STANDARD
BEGIN:DAYLIGHT
TZOFFSETFROM:-0700
TZOFFSETTO:-0600
TZNAME:MDT
DTSTART:20220313T090000
END:DAYLIGHT
BEGIN:STANDARD
TZOFFSETFROM:-0600
TZOFFSETTO:-0700
TZNAME:MST
DTSTART:20221106T080000
END:STANDARD
END:VTIMEZONE
BEGIN:VEVENT
DTSTART;TZID=UTC:20230521T130000
DTEND;TZID=UTC:20230521T160000
DTSTAMP:20260420T013847
CREATED:20230427T235302Z
LAST-MODIFIED:20230517T110437Z
UID:10000024-1684674000-1684684800@calgaryindians.org
SUMMARY:Project Launch: IMPACT Mentorship
DESCRIPTION:The Indian Society of Calgary is hosting a networking event on May 21st at the Calgary Central Library. The event aims to provide a platform for professionals from different industries to connect with each other\, share their experiences\, and build meaningful relationships. As part of the event\, the society is launching its flagship project\, IMPACT Mentorship\, which aims to help newcomers gain knowledge about their specific industry. The project will match newcomers with mentors who have expertise in their industry and can provide guidance and support to help them succeed in their career. The networking event will also provide an opportunity for attendees to learn more about IMPACT Mentorship and how they can get involved.
URL:https://calgaryindians.org/event/project-launch-impact-mentorship/
LOCATION:Calgary Central Library\, 800 3 St SE\, Calgary\, AB\, T2G 2E7\, Canada
CATEGORIES:Events
ATTACH;FMTTYPE=image/jpeg:https://calgaryindians.org/wp-content/uploads/2023/04/mentorship1.jpg
END:VEVENT
BEGIN:VEVENT
DTSTART;TZID=UTC:20230419T100000
DTEND;TZID=UTC:20230419T140000
DTSTAMP:20260420T013847
CREATED:20230427T234914Z
LAST-MODIFIED:20230428T002525Z
UID:10000023-1681898400-1681912800@calgaryindians.org
SUMMARY:Diversity Fair
DESCRIPTION:The Indian Society of Calgary was invited to set up a booth at the Diversity Fair organized by the Calgary Police Service. The event aimed to promote diversity and inclusion in the community by bringing together various cultural organizations and community groups. The Indian Society of Calgary was proud to participate in the fair and showcase its commitment to diversity and cultural exchange. The society’s representatives provided information about their programs and initiatives\, and engaged with attendees about the Indian culture and traditions. The event was a great success\, and attendees had the opportunity to learn about different cultures\, build connections\, and celebrate diversity. The Indian Society of Calgary is committed to working with community partners to promote diversity and inclusivity in Calgary.
URL:https://calgaryindians.org/event/diversity-fair/
LOCATION:Calgary Police Service\, 5111 47 St NE\, Calgary\, AB\, T3J 3R2\, Canada
CATEGORIES:Events
ATTACH;FMTTYPE=image/jpeg:https://calgaryindians.org/wp-content/uploads/2023/04/diversity.jpg
END:VEVENT
BEGIN:VEVENT
DTSTART;TZID=UTC:20230415T110000
DTEND;TZID=UTC:20230415T140000
DTSTAMP:20260420T013847
CREATED:20230427T234258Z
LAST-MODIFIED:20230428T001459Z
UID:10000022-1681556400-1681567200@calgaryindians.org
SUMMARY:Blood Donation Camp
DESCRIPTION:On April 15th\, the Indian Society of Calgary organized a blood donation camp in partnership with the Canadian Blood Services Calgary. The event was an opportunity for members of the community to donate blood and potentially save lives. The society’s representatives provided information about the importance of blood donation and its impact on the community. The event was a success\, and many people turned out to donate blood and support the cause.
URL:https://calgaryindians.org/event/blood-donation-camp/
LOCATION:Canada Blood Services\, 737 13 Ave SW\, Calgary\, AB\, Canada
CATEGORIES:Events
ATTACH;FMTTYPE=image/jpeg:https://calgaryindians.org/wp-content/uploads/2023/04/blood3.jpg
END:VEVENT
BEGIN:VEVENT
DTSTART;TZID=UTC:20230318T110000
DTEND;TZID=UTC:20230318T140000
DTSTAMP:20260420T013847
CREATED:20230426T034256Z
LAST-MODIFIED:20230428T001407Z
UID:10000018-1679137200-1679148000@calgaryindians.org
SUMMARY:Holi-Festival of Colours
DESCRIPTION:On March 18th\, the Indian Society of Calgary organized a Holi celebration at Bowness Park that attracted over 700 people. The festival\, also known as the “festival of colors\,” is a Hindu tradition that celebrates the arrival of spring and the triumph of good over evil. The event was a lively affair\, featuring music from a DJ\, colorful powder\, and traditional Indian food. Attendees had the opportunity to take part in a variety of activities\, including playing with colors\, dancing to the music\, and taking photos using a 360-selfie camera. The festival provided an opportunity for people from different backgrounds to come together and experience the joy of Holi
URL:https://calgaryindians.org/event/holi-event/
LOCATION:Bowness Park\, 8900 48 Ave. N.W.\, Calgary\, AB\, Canada
CATEGORIES:Events
ATTACH;FMTTYPE=image/jpeg:https://calgaryindians.org/wp-content/uploads/2023/04/holi1.jpg
END:VEVENT
BEGIN:VEVENT
DTSTART;TZID=UTC:20230304T120000
DTEND;TZID=UTC:20230304T160000
DTSTAMP:20260420T013847
CREATED:20230427T233510Z
LAST-MODIFIED:20230428T001328Z
UID:10000021-1677931200-1677945600@calgaryindians.org
SUMMARY:Naari Shakti: International Women’s Day
DESCRIPTION:On March 4th\, the Indian Society of Calgary celebrated Women’s Day to honor and recognize the achievements of women in the community. The event was an excellent opportunity to celebrate the progress made towards gender equality and to raise awareness about the issues that women still face. The event included a variety of activities\, including guest speakers\, panel discussions\, and cultural performances. The society’s representatives provided information about the various programs and initiatives aimed at supporting women in the community\, such as mentorship programs and networking events. The event was open to all\, and attendees had the opportunity to connect with other like-minded individuals and build meaningful relationships.
URL:https://calgaryindians.org/event/naari-shakti-international-womens-day/
LOCATION:Calgary Central Library\, 800 3 St SE\, Calgary\, AB\, T2G 2E7\, Canada
CATEGORIES:Events
ATTACH;FMTTYPE=image/jpeg:https://calgaryindians.org/wp-content/uploads/2023/04/women1.jpg
END:VEVENT
BEGIN:VEVENT
DTSTART;TZID=UTC:20230127T100000
DTEND;TZID=UTC:20230127T140000
DTSTAMP:20260420T013847
CREATED:20230427T233240Z
LAST-MODIFIED:20230428T001218Z
UID:10000020-1674813600-1674828000@calgaryindians.org
SUMMARY:Ukrainian Calgarian Job Fair
DESCRIPTION:On January 27th\, the Indian Society of Calgary set up a booth at the Ukrainian Job Fair to present job opportunities and inform Ukrainian refugees about our Mentorship Program. The Job Fair was an excellent opportunity to connect with refugees and help them navigate the job market and explore potential career opportunities. At the booth\, the society’s representatives provided information about the Mentorship Program\, which aims to match newcomers with mentors who have expertise in their industry and can provide guidance and support to help them succeed in their careers. The society’s representatives also answered questions and provided support to the attendees. The Indian Society of Calgary is committed to supporting refugees and promoting diversity and inclusion in the community\, and this event is one of many initiatives aimed at achieving this goal.
URL:https://calgaryindians.org/event/ukrainian-calgarian-job-fair/
LOCATION:St. Stephen Protomartyr Ukrainian Church\, 4903 45 St SW\, Calgary\, AB\, T3E 3W5\, Canada
CATEGORIES:Events
ATTACH;FMTTYPE=image/jpeg:https://calgaryindians.org/wp-content/uploads/2023/04/ukr1.jpg
END:VEVENT
BEGIN:VEVENT
DTSTART;TZID=UTC:20230121T130000
DTEND;TZID=UTC:20230121T160000
DTSTAMP:20260420T013847
CREATED:20230426T034804Z
LAST-MODIFIED:20230428T001255Z
UID:10000019-1674306000-1674316800@calgaryindians.org
SUMMARY:Volunteer Meet-up
DESCRIPTION:The Indian Society of Calgary organized a volunteer meet up on January 21st\, which was attended by over 100 old and new volunteers. The event aimed to bring together volunteers who have worked with the society in the past and those who were interested in volunteering in the future. The meet up was an excellent opportunity for the volunteers to network\, share their experiences\, and discuss upcoming volunteering opportunities. The society’s representatives provided information about the various volunteer programs and initiatives and answered questions from the attendees. The event was a great success\, and the society’s representatives expressed their gratitude to the volunteers for their hard work and dedication
URL:https://calgaryindians.org/event/isc-volunteer-meet-up/
LOCATION:Calgary Central Library\, 800 3 St SE\, Calgary\, AB\, T2G 2E7\, Canada
CATEGORIES:Events
ATTACH;FMTTYPE=image/jpeg:https://calgaryindians.org/wp-content/uploads/2023/04/visc_1.jpg
END:VEVENT
BEGIN:VEVENT
DTSTART;TZID=UTC:20230107T120000
DTEND;TZID=UTC:20230107T140000
DTSTAMP:20260420T013847
CREATED:20230119T212105Z
LAST-MODIFIED:20230119T214357Z
UID:10000012-1673092800-1673100000@calgaryindians.org
SUMMARY:Anti Racism Engagement
DESCRIPTION:
URL:https://calgaryindians.org/event/anti-racism-engagement/
CATEGORIES:Events
ATTACH;FMTTYPE=image/jpeg:https://calgaryindians.org/wp-content/uploads/2023/01/Indian-Society-Calagry-Anti-Racism-Community-Engagement-PPT-01-1-scaled.jpg
END:VEVENT
BEGIN:VEVENT
DTSTART;TZID=America/Edmonton:20220903T100000
DTEND;TZID=America/Edmonton:20220903T160000
DTSTAMP:20260420T013847
CREATED:20220915T013746Z
LAST-MODIFIED:20220915T112737Z
UID:10000011-1662199200-1662220800@calgaryindians.org
SUMMARY:Ganesh Chaturthi Celebrations
DESCRIPTION:Ganesh Chaturthi Celebrations
URL:https://calgaryindians.org/event/ganesh-chaturthi-celebrations/
LOCATION:The Genesis Centre\, 7555 Falconridge Blvd NE #10\, Calgary\, AB\, T3J 0C9\, Canada
CATEGORIES:Events
ATTACH;FMTTYPE=image/jpeg:https://calgaryindians.org/wp-content/uploads/2022/09/Indian-Society-of-Calgary-Roll-Banner-8ft-X-10ft-01-3-scaled.jpg
END:VEVENT
BEGIN:VEVENT
DTSTART;TZID=America/Edmonton:20200905T130000
DTEND;TZID=America/Edmonton:20200905T160000
DTSTAMP:20260420T013847
CREATED:20200905T190000Z
LAST-MODIFIED:20220622T084800Z
UID:10000007-1599310800-1599321600@calgaryindians.org
SUMMARY:ISC Annual Walk 2020
DESCRIPTION:To mark the end of a fabulous Summer and to welcome the beautiful Fall\, CEIO will be holding a 1k\, 2k\, 3k\, 4k\, 5k walk on Saturday\, September 5 at Baker Park. The event will be safely physically distanced. Kids under 14 free. 𝐏𝐞𝐨𝐩𝐥𝐞 𝐰𝐡𝐨 𝐫𝐞𝐠𝐢𝐬𝐭𝐞𝐫 𝐚𝐧𝐝 𝐚𝐭𝐭𝐞𝐧𝐝 𝐭𝐡𝐞 𝐞𝐯𝐞𝐧𝐭 𝐰𝐢𝐥𝐥 𝐫𝐞𝐜𝐞𝐢𝐯𝐞 𝐚 𝐟𝐫𝐞𝐞 𝐈𝐒𝐂 𝐓-𝐬𝐡𝐢𝐫𝐭 𝐚𝐧𝐝 𝐚 𝐜𝐮𝐩 𝐨𝐟 𝐒𝐭𝐚𝐫𝐛𝐮𝐜𝐤𝐬 𝐜𝐨𝐟𝐟𝐞𝐞!! \n𝐏𝐫𝐞-𝐫𝐞𝐠𝐢𝐬𝐭𝐫𝐚𝐭𝐢𝐨𝐧 𝐢𝐬 𝐜𝐨𝐦𝐩𝐥𝐮𝐬𝐨𝐫𝐲. No requests to register on-site shall be entertained. \n𝐓𝐡𝐞 𝐦𝐚𝐱𝐢𝐦𝐮𝐦 𝐧𝐮𝐦𝐛𝐞𝐫 𝐨𝐟 𝐩𝐚𝐫𝐭𝐢𝐜𝐢𝐩𝐚𝐧𝐭𝐬 𝐢𝐬 𝟔𝟎. So\, register before we’re sold out!! \nPlease carry your water bottle\, snacks (if needed)\, sanitizers\, and face masks. Wear comfortable shoes that keep you going. \nSo\, come\, join us for a wonderful walk-and-talk and a cup of good Starbucks coffee. We hope to see you all there to have some fun!
URL:https://calgaryindians.org/event/isc-annual-walk-2020/
LOCATION:Baker Park\, Northwest Calgary\, Calgary\, AB\, T3L\, Canada
CATEGORIES:Events
END:VEVENT
BEGIN:VEVENT
DTSTART;TZID=UTC:20200815T103000
DTEND;TZID=UTC:20200815T133000
DTSTAMP:20260420T013847
CREATED:20220622T083208Z
LAST-MODIFIED:20220622T083208Z
UID:10000008-1597487400-1597498200@calgaryindians.org
SUMMARY:Indian Independence Day Celebration
DESCRIPTION:Flag hoisting ceremony to celebrate the  Indian Independence Day. This is a private ticketed event and attendance is through a personal invitation only.
URL:https://calgaryindians.org/event/indian-independence-day-celebration/
LOCATION:North Glenmore Park\, 7305 Crowchild Trail SW\, Calgary\, AB\, T3E 5N5\, Canada
CATEGORIES:Events
ATTACH;FMTTYPE=image/jpeg:https://calgaryindians.org/wp-content/uploads/2022/06/d57eb5_f99568a9c3794ad489e6c29138e8d25f_mv2.jpg
END:VEVENT
BEGIN:VEVENT
DTSTART;TZID=UTC:20190907T130000
DTEND;TZID=UTC:20190907T150000
DTSTAMP:20260420T013847
CREATED:20220622T083745Z
LAST-MODIFIED:20220622T083745Z
UID:10000009-1567861200-1567868400@calgaryindians.org
SUMMARY:Career Development Workshop
DESCRIPTION:This event will focus on various dimensions of career development especially for new comers to Calgary – preparing CV and cover letter\, preparing for interviews etc. The event will also focus on socializing with other delegates over coffee and chit-chat.
URL:https://calgaryindians.org/event/career-development-workshop/
LOCATION:Giuffre Family Library\, 3223 14 Street Southwest\, Calgary\, AB\, T2T 3V8\, Canada
CATEGORIES:Events
ATTACH;FMTTYPE=image/jpeg:https://calgaryindians.org/wp-content/uploads/2022/06/nsplsh_62776b69373161702d7938_mv2_d_1910_1276_s_2.jpg
END:VEVENT
BEGIN:VEVENT
DTSTART;TZID=UTC:20190831T110000
DTEND;TZID=UTC:20190831T140000
DTSTAMP:20260420T013847
CREATED:20220622T084052Z
LAST-MODIFIED:20220622T084052Z
UID:10000010-1567249200-1567260000@calgaryindians.org
SUMMARY:Potluck Day
DESCRIPTION:Pot luck and entertainment
URL:https://calgaryindians.org/event/potluck-day/
LOCATION:Prince’s Island Park\, 698 Eau Claire Ave SW\, Calgary\, AB\, T2P\, Canada
CATEGORIES:Events
ATTACH;FMTTYPE=image/jpeg:https://calgaryindians.org/wp-content/uploads/2022/06/d57eb5_b6f2220e70524a3189ba73ca08c3c346_mv2.jpg
END:VEVENT
END:VCALENDAR