BEGIN:VCALENDAR
VERSION:2.0
PRODID:-//Indian Society of Calgary - ECPv6.6.3//NONSGML v1.0//EN
CALSCALE:GREGORIAN
METHOD:PUBLISH
X-ORIGINAL-URL:https://calgaryindians.org
X-WR-CALDESC:Events for Indian Society of Calgary
REFRESH-INTERVAL;VALUE=DURATION:PT1H
X-Robots-Tag:noindex
X-PUBLISHED-TTL:PT1H
BEGIN:VTIMEZONE
TZID:UTC
BEGIN:STANDARD
TZOFFSETFROM:+0000
TZOFFSETTO:+0000
TZNAME:UTC
DTSTART:20260101T000000
END:STANDARD
END:VTIMEZONE
BEGIN:VEVENT
DTSTART;VALUE=DATE:20260615
DTEND;VALUE=DATE:20260616
DTSTAMP:20260419T131015
CREATED:20250118T122638Z
LAST-MODIFIED:20260110T063917Z
UID:10000044-1781481600-1781567999@calgaryindians.org
SUMMARY:Seniors / grandparents
DESCRIPTION:
URL:https://calgaryindians.org/event/seniors-grandparents/
CATEGORIES:Events
ATTACH;FMTTYPE=image/jpeg:https://calgaryindians.org/wp-content/uploads/2025/01/21-1.jpg
END:VEVENT
BEGIN:VEVENT
DTSTART;VALUE=DATE:20260620
DTEND;VALUE=DATE:20260621
DTSTAMP:20260419T131015
CREATED:20250118T121149Z
LAST-MODIFIED:20260110T064153Z
UID:10000041-1781913600-1781999999@calgaryindians.org
SUMMARY:Lilac Fest
DESCRIPTION:
URL:https://calgaryindians.org/event/lilac-fest/
CATEGORIES:Events
ATTACH;FMTTYPE=image/jpeg:https://calgaryindians.org/wp-content/uploads/2025/01/25.jpg
END:VEVENT
END:VCALENDAR